BEGIN:VCALENDAR
VERSION:2.0
CALSCALE:GREGORIAN
METHOD:PUBLISH
BEGIN:VEVENT
SUMMARY:MASTERCLASS with PEACH
DTSTART:20260426T120000Z
DTSTAMP:20260424T191829Z
CATEGORIES:
DESCRIPTION:- FRApprends à te maquiller en full make-up drag !\nTu as tou
 jours rêvé de faire du drag ? Tu souhaites améliorer et/ou découvrir d
 e nouvelles techniques de maquillage ?Peach te montre comment réaliser un
  make-up drag\, étape par étape !\nTu apprendras entre autres : comment 
 coller tes sourcils\, modifier la forme de ton visage grâce au contouring
 \, ou encore réaliser une overline parfaite des lèvres.\nMasterclass en 
 groupe (35€) ou cours particulier (200€) : choisis ce qui te convient 
 le mieux.Inscris-toi à la masterclass en prenant ton ticket via le lien e
 n description ou directement sur theagendabxl.be.\nPour un cours particuli
 er\, contacte Peach en DM ou par mail : peach@allofthatentertainment.com- 
 ENLearn how to do a full drag make-up look!\nHave you always dreamed of do
 ing drag? Do you want to improve or discover new make-up techniques?Peach 
 will guide you step by step through creating a full drag make-up look!\nYo
 u will learn\, among other things: how to glue your eyebrows\, reshape you
 r face using contouring\, and create the perfect lip overline.\nGroup mast
 erclass (€35) or private lesson (€200): choose what suits you best.Sig
 n up by purchasing your ticket via the link in the description or directly
  on theagendabxl.be.\nFor private lessons\, contact Peach via DMs or by em
 ail: alan-laumonier@live.fr
GEO:50.8466758;4.3490191
LOCATION:18 Plattesteen 1000 Bruxelles - BE
ORGANIZER:All Of That Entertainment
END:VEVENT
END:VCALENDAR
