BEGIN:VCALENDAR
VERSION:2.0
CALSCALE:GREGORIAN
METHOD:PUBLISH
BEGIN:VEVENT
SUMMARY:Rencontre avec les acteurs clés de la Santé Mentale 3è Ed 28.04
 .2026
DTSTART:20260331T220000Z
DTEND:20260427T220000Z
DTSTAMP:20260423T142528Z
CATEGORIES:
DESCRIPTION:\nLa soirée à ne pas manquer !\n\n	 \n\n	Après une 2ème 
 édition où nous avons dû pousser les murs\, cette nouvelle rencontre a 
 pour ambition de toujours mieux se connaitre afin de mieux accompagner la 
 population du 10ème arrondissement. \n\n	Comme toujours\, l'entrée est 
 libre\, gratuite mais nous avons besoin de connaitre le nombre de particip
 ants à des fins logistiques. \n\n	N'hésitez pas à venir accompagnés\,
  nous avons prévu vaste cette fois!\n\n	A très vite de vous retrouver af
 in de coconstruire notre "boussole" sur le secteur.\n\n	A jamais Utiles! 
 \n\n	 \n\n	La CPTS VITALE SANTE 10\n
LOCATION:184 Avenue de St Menet 13011 MARSEILLE - FR
ORGANIZER:CPTS VITALE SANTE 10
END:VEVENT
END:VCALENDAR
