BEGIN:VCALENDAR
VERSION:2.0
CALSCALE:GREGORIAN
METHOD:PUBLISH
BEGIN:VEVENT
SUMMARY:Stage d'immersion Summer Fun Weeks & Ateliers
DTSTART:20260706T070000Z
DTEND:20260828T103000Z
DTSTAMP:20260424T151716Z
CATEGORIES:
DESCRIPTION:\n\nÉté comme hiver\, printemps comme automne\, chez Kids&Us
 \, qui dit vacances scolaires\, dit Fun Week !\n\n\nStage d'immersions des
 tiné aux enfants dès l'âge de 3-4 ans ! Tous les matins de 9h00 à 12h3
 0 - Possibiltés d'activités en après-midis.\nNEW stage également pour 
 les pré-ados/ados ayant un niveau minimum A1/A2.\n\n\nFun Week du 6 au 10
  Juillet : “Australia” \nL’ Australie est vraiment unique. De l’Ou
 tback à la Grande Barrière de corail\, tu peux y trouver des paysages é
 tonnants et des animaux inhabituels qui n’existent nulle part ailleurs d
 ans le monde. Es-tu prêt pour un voyage passionnant ? Rejoins-nous à l
 ’autre bout de la planète\, dans un endroit qui ne ressemble à aucun a
 utre.\n\nFun Week du 24 au 28 Août: “Madness at the Museum” \nQui a d
 it que les musées étaient ennuyeux ? Le musée Messum est un endroit qui
  a quelque chose à offrir à chacun. Des œuvres d’art ? Oui ! Des momi
 es ? Oui ! Des découvertes scientifiques ? Oui\, oui\, oui\, et encore ou
 i ! Cependant\, il ne s’agit pas d’un musée ordinaire. Visite le mus
 ée pour découvrir ce qui le rend si spécial et fais-toi de nouveaux ami
 s intéressants qui sont impatients de t’accueillir et de s’assurer qu
 e tu passes un moment extra ! Ne rate pas la visite du musée que tu n’o
 ublieras jamais.\n\n\nUne semaine pour apprendre l’anglais autrement : e
 n jouant\, en créant\, en chantant et en s’amusant !\n\n			Les Fun Week
 s permettent aux enfants de développer leur confiance en anglais\, de se
  faire de nouveaux amis et de vivre une expérience riche et positive pen
 dant les vacances.Les activités des Fun Weeks sont organisées avec des g
 roupes\, par tranche d'âge\, de huit élèves au plus par teacher afin de
  garantir une expérience individualisée et de favoriser l'apprentissage 
 de chaque élève. Les places sont donc limitées !\n\n\n		À travers des 
 jeux\, des histoires et des activités créatives\, les enfants vivront un
 e expérience immersive en anglais\, spécialement conçue pour éveiller 
 leur curiosité et leur donner confiance dans l’apprentissage de la lang
 ue.\n\nChaque semaine pleine d’énergie\, de créativité et de découve
 rtes s'articulera autour d'un thème.\n\n		Pour garantir un accompagnement
  de qualité\, les enfants sont répartis par tranches d’âge dans de p
 etits groupes de 6 à 8 participants maximum\, encadrés par leur teacher.
 \n		Cette organisation permet à chaque enfant de participer activement\, 
 progresser à son rythme et se sentir en confiance.\n\n		Tout au long de l
 a semaine\, les enfants participent à des activités variées qui stimule
 nt à la fois leur imagination\, leur créativité et leur expression en a
 nglais.\n\nPour nous\, la meilleure façon d’apprendre l'anglais est de 
 le faire en s’amusant !\n\n\nAprès midis "english&fun" dès 5 ans ! Gar
 derie pause méridienne possible (Lunch box fournie par les parents.)\n\n	
 Mercredis 13h30 à 16h30 - Fun Day (atelier manuel + atelier cuisines + st
 orytelling & games)\nou\nTous les après-midis jusqu'à 17h00\, ateliers m
 anuels chinois avec notre partenaire Académie Mo - les contacter directem
 ent : https://www.academie-mo.fr/fr/accueil/\n\n	 \n\nHORAIRES\n\n	Fun We
 ek 9:00  à 12:15/30\n	Fun Day 13h30 à 16h30\n	Academie Mo 14h00 à 17h
 00\n\n	Pour faciliter l'arrivée et le départ de vos enfants\, l'accueil 
 aura lieu entre 8 :45 et 9 :00 le départ entre 12 :15 et 12 :30 (pend
 ant ces créneaux\, les enfants pourront lire\, dessiner ou participer à 
 des petits jeux en anglais sous la surveillance d'une éducatrice).\n\nTAR
 IFS :\n\nFun Week Semaine de 5 demi-journées : 250 €/enfant (230 €/
 élève Kids&Us - contactez la Directrice si règlement par prélèvement)
 .\n	Atelier Durée 1h30 : 45€/enfant\n	Fun Day Durée 3h00 : 60€/enfan
 t (54€ tarif spécial élève)\n\nPossibilité de régler avec les chèq
 ues vacances ANCV\, contacter-nous vite pour réserver sa place !\n\nINSCR
 IPTION EN LIGNE OU EN CONTACTANT L'ECOLE\nPour plus d’informations\, n
 ’hésitez pas à vous adresser à votre école Kids&Us et réservez dès
  aujourd’hui ! Nombre de places limité !\n\nKids&Us BORDEAUX-LE BOUSCAT
 \n	206 Avenue de la Libération Charles de Gaulle - 33 110 Le Bouscat\n	T
 el : 06 19 47 22 44  / Mail : bordeaux.lebouscat@kidsandus.fr \n\n	 \n
LOCATION:206 AVENUE DE LA LIBERATION CHARLES DE GAULLE 33110 Le Bouscat - 
 FR
ORGANIZER:Kids&Us Le Bouscat
END:VEVENT
END:VCALENDAR
