BEGIN:VCALENDAR
VERSION:2.0
CALSCALE:GREGORIAN
METHOD:PUBLISH
BEGIN:VEVENT
SUMMARY:Greg Wilson Rooftop Day Party
DTSTART:20260711T130000Z
DTEND:20260711T210000Z
DTSTAMP:20260420T160509Z
CATEGORIES:
DESCRIPTION:FREIGHT BRIXTON PRESENTS: GREG WILSON DAY SESSION\nA true pion
 eer steps up… Greg Wilson takes over Freight Brixton for a special day s
 ession.\nStarting his DJ journey at just 15\, Greg Wilson went on to shape
  the UK’s club culture in the late ’70s and early ’80s\, holding inf
 luential residencies at Wigan Pier and Legend\, where he helped pioneer th
 e electro-funk sound. In 1983\, he made history as the first DJ to demonst
 rate live mixing on British TV\, appearing on Channel 4’s The Tube.\nKn
 own for his groundbreaking re-edits\, reel-to-reel sets\, and deep musical
  knowledge\, Greg returned in the 2000s with renewed acclaim\, continuing 
 to inspire generations\, even famously teaching a young Norman Cook (Fatbo
 y Slim) how to scratch.\nExpect a masterclass in groove\, spanning electro
 \, funk\, soul\, and beyond\, delivered by one of the UK’s most respecte
 d selectors.
GEO:51.4630609;-0.1125246
LOCATION:33 Brixton Station Road SW9 8PB London - GB
ORGANIZER:Freight Brixton
END:VEVENT
END:VCALENDAR
