BEGIN:VCALENDAR
VERSION:2.0
CALSCALE:GREGORIAN
METHOD:PUBLISH
BEGIN:VEVENT
SUMMARY:Séminaire Dzogchen Today! - Les souffles subtils. Le rêve.
DTSTART:20260626T080000Z
DTEND:20260628T150000Z
DTSTAMP:20260425T171022Z
CATEGORIES:
DESCRIPTION:\n\nLes souffles subtils et les phénomènes mentaux. Le rêve
 . \nDans la tradition tibétaine de la Grande Perfection\, la réalité d
 e notre existence peut se décliner en trois aspects : tangible\, subtil e
 t ultime. Le Dzogchèn\, une grande tradition sœur du Bouddhisme\, nous e
 ncourage à explorer et à maîtriser plus particulièrement les dimension
 s subtile et ultime qui nous sont habituellement cachées. Pendant ces deu
 x jours\, nous examinerons ces aspects subtils via la réalité illusoire 
 du rêve\, notamment avec des exercices de méditation\, et étudierons le
  lien entre les souffles subtils et les formes des rêves.\n\n
GEO:48.8461297;2.32346
LOCATION:Rue Théodore Verhaegen 158 1060 Bruxelles - BE
ORGANIZER:DZOGCHEN TODAY FONDS DE DOTATION
END:VEVENT
END:VCALENDAR
