BEGIN:VCALENDAR
VERSION:2.0
CALSCALE:GREGORIAN
METHOD:PUBLISH
BEGIN:VEVENT
SUMMARY:Ghosts of Garage Rooftop Day Party W Kele Le Roc & Sticky
DTSTART:20260530T110000Z
DTEND:20260530T180000Z
DTSTAMP:20260420T160510Z
CATEGORIES:
DESCRIPTION:Your favourite UK Garage night returns\, bigger than ever.\nWe
 ’re bringing Ghosts of Garage to Freight\, London’s largest rooftop 
 venue\, for a full day celebrating the past\, present\, and future of UKG\
 , all under the sun\nJoining us for this special rooftop session:Kele Le R
 oc & Sticky\nExpect pure vibes\, iconic sounds\, and a proper day party 
 atmosphere.\nAnd we’re not done…Stick around as we screen the Champio
 ns League Final later that evening — so once you’re in\, the only plac
 e you’ll need to move is the dancefloor
GEO:51.4630609;-0.1125246
LOCATION:33 Brixton Station Road SW9 8PB  - GB
ORGANIZER:Freight Brixton
END:VEVENT
END:VCALENDAR
