BEGIN:VCALENDAR
VERSION:2.0
CALSCALE:GREGORIAN
METHOD:PUBLISH
BEGIN:VEVENT
SUMMARY:4e Journée "Transmettre et Innover en orthoptie"
DTSTART:20260606T063000Z
DTEND:20260606T113000Z
DTSTAMP:20260422T181731Z
CATEGORIES:
DESCRIPTION:\nL'an dernier\, pour la 3e édition\, 131 orthoptistes\, inte
 rnes en ophtalmologie et ophtalmologistes\, étaient réunis sous l’audi
 torium de l’Espace Niemeyer pour cette matinée de formation.\n\nFormati
 on ouverte à tout professionnel de la vision. \n\nInscrivez-vous vite !\n
 \nProgramme \n\n	8h30 : Accueil des participants\n	9h00 - 9h15 : Mot de 
 bienvenu et présentation de l'IFM et l'INOG - Sophie GEORGES RANDRETSA\n	
 9h15 - 9h45 : Cas clinique INOG - Mme Dorine BEN ZINA et Mme Anne-Claire 
 FREY-VERNIN\n	9h45 - 10h15 : Myopie simple de l’enfant  - Mme Charlo
 tte CREUX & Dr Romain MILHEIRO\n	10h15 - 10h45 : Myopie syndromique - Mme
  Alix VAUCHEL & Dr Thomas SCHWARTZ\n	10h45 - 11h15 : Positionnement des mu
 scles oculomoteur en OCT - Mme Marie FOLEMPIN\n\n	11h15 - 11h45 : Pause\n
 \n	11h45 - 12h15 : Classifications des strabismes - Mme Aline KOSTAS\n	12
 h15 - 12h45 : Strabologie : importance du BO - Mme Alexia ROSNEY & Dr Fra
 nçois AUDREN\n	12h45 - 13h15 : Présentation des cas chirurgicaux - Mme E
 lise PLASSIER & Dr Amandine BARJOL\n\n	13h15 - 13h30 : Conclusion\n\nForma
 tion gratuite dans la limite des 250 PLACES DISPONIBLES !\n
LOCATION:2 place du Colonel Fabien 75019 Paris - FR
ORGANIZER:Hôpital Fondation Rothschild
END:VEVENT
END:VCALENDAR
