BEGIN:VCALENDAR
VERSION:2.0
CALSCALE:GREGORIAN
METHOD:PUBLISH
BEGIN:VEVENT
SUMMARY:CONCERT 160ème anniversaire des martyrs de Corée
DTSTART:20260604T180000Z
DTEND:20260604T193000Z
DTSTAMP:20260423T042658Z
CATEGORIES:
DESCRIPTION:\nUn dialogue spirituel à travers la musique baroque\n\nConce
 rt en l'honneur du 160ème anniversaire des martyrs de Corée\n\n	EUN-SHIK
  Kim\, violon baroque\n	JUNG-HEE Moon\, violine\n	JOO-WON Jung\, soprano\n
 	HEE-YOUNG Chae\, orgue\n\n	 \n\n	Entrée libre\, réservation recommand
 ée\n\n	Organisé par la Congrégation des Bienheureux Martyrs de Corée (
 dont fait notamment partie Saint Siméon Berneux\, missionnaire MEP)\n
LOCATION:128 rue du Bac 75007 Paris - FR
ORGANIZER:Missions Etrangères de Paris
END:VEVENT
END:VCALENDAR
