BEGIN:VCALENDAR
VERSION:2.0
CALSCALE:GREGORIAN
METHOD:PUBLISH
BEGIN:VEVENT
SUMMARY:VAUBAN CLASSIC - Le rendez-vous rétro à ne pas manquer !
DTSTART:20260628T080000Z
DTEND:20260628T150000Z
DTSTAMP:20260425T181709Z
CATEGORIES:
DESCRIPTION:Depuis deux ans\, le Groupe Vauban organisait le «Sacré Év
 énement»\, une journée dédiée exclusivement à la marque Peugeot\, qu
 i avait déjà rencontré un beau succès auprès des passionnés. Cette a
 nnée\, l’événement évolue et prend une toute nouvelle dimension en d
 evenant le «Vauban Classic».\nPour cette édition 2026\, ce sont désorm
 ais les marques du groupe\, Peugeot\, Citroën\, DS Automobiles\, Toyota\,
  Jeep\, Alfa Romeo\, Fiat et Lancia\, qui seront réunies pour la premièr
 e fois lors d’une seule et même journée. Cette évolution marque une 
 étape importante dans l’histoire du groupe\, avec une ambition plus lar
 ge et plus ouverte à tous les univers automobiles.\nAvec près de 500 vé
 hicules attendus en exposition\, le Vauban Classic s’impose comme un ren
 dez-vous incontournable pour les passionnés\, les collectionneurs et les 
 curieux\, offrant une véritable immersion dans la richesse et la diversit
 é du monde automobile.
GEO:49.0553906;1.8312794
LOCATION:Route des Ferets 78440 Montalet-le-Bois - FR
ORGANIZER:Groupe Vauban
END:VEVENT
END:VCALENDAR
