BEGIN:VCALENDAR
VERSION:2.0
CALSCALE:GREGORIAN
METHOD:PUBLISH
BEGIN:VEVENT
SUMMARY:EpicuRun // Sunset Run & DJ Set After-Run
DTSTART:20260606T153000Z
DTEND:20260606T200000Z
DTSTAMP:20260424T130253Z
CATEGORIES:
DESCRIPTION:
GEO:50.760519;4.437284099999999
LOCATION:17 Route de Mont Saint-Jean 1560 Hoeilaart - BE
ORGANIZER:EPICURUN.COM
END:VEVENT
END:VCALENDAR
