BEGIN:VCALENDAR
VERSION:2.0
CALSCALE:GREGORIAN
METHOD:PUBLISH
BEGIN:VEVENT
SUMMARY:  Swiss Metabolomics Society - Annual Meeting 2026
DTSTART:20261023T070000Z
DTEND:20261023T160000Z
DTSTAMP:20260423T134257Z
CATEGORIES:
DESCRIPTION:\n	This year our annual meeting will be held on October 23 in 
 Campus Biotech Geneva.\n\n	 \n\n	By participating in this event\, you con
 sent to the collection and the transfer of registration data to the sponso
 rs\, unless you explicitly state otherwise.\n
LOCATION:chemin des Mines 9 1202 Geneva - CH
ORGANIZER:Swiss Metabolomics Society
END:VEVENT
END:VCALENDAR
