BEGIN:VCALENDAR
VERSION:2.0
CALSCALE:GREGORIAN
METHOD:PUBLISH
BEGIN:VEVENT
SUMMARY:VORT-X - Mission 001 - First Contact
DTSTART:20261017T200000Z
DTSTAMP:20260420T133252Z
CATEGORIES:
DESCRIPTION:Welcome aboard the VORT-X. Emerging from the shadows for the v
 ery first time\, the mothership is launching its inaugural mission\, and y
 ou’re invited to be a part of it. Conceived by a crew of nighttime explo
 rers\, the VORT-X will transport you to a new realm where everything remai
 ns to be discovered.\nDuring 3 days\, leave reality behind for a total imm
 ersion: an experience where conventions are turned upside down\, where rit
 uals come to life\, and where everyone can explore\, play\, and reveal the
 mselves.\nGet your outfit ready\, follow the rules of the game\, connect w
 ith others\, and let yourself be carried away. The journey begins now.\nRe
 ady for boarding?\n \nImportant information : \n CASH ONLY on site during
  main party. \n(due to requirement of the venue beyond our control\, card
  payments is not allowed on-site) \nAn ATM is available at 100 meters fro
 m the venue. \n 
GEO:50.8412185;4.3504843
LOCATION:6 Place de la Chapelle 1000 Bruxelles - BE
ORGANIZER:The Arena BXL
END:VEVENT
END:VCALENDAR
