BEGIN:VCALENDAR
VERSION:2.0
CALSCALE:GREGORIAN
METHOD:PUBLISH
BEGIN:VEVENT
SUMMARY:REDÉCOUVREZ LE RESTAURANT LE GOURMAND !
DTSTART:20260422T153000Z
DTEND:20260422T180000Z
DTSTAMP:20260423T180629Z
CATEGORIES:
DESCRIPTION:Le Restaurant Le Gourmand vous invite à découvrir son tout n
 ouveau visage à l’occasion d’une soirée conviviale et gourmande.\nEn
 tièrement rénové\, le lieu vous ouvre ses portes pour un moment chaleur
 eux à partager autour d’un cocktail apéritif\, d’une sélection de v
 ins\, de glaces artisanales\, de musique live et de quelques surprises.\nU
 ne belle occasion de redécouvrir Le Gourmand… en mieux !\n2 rue Georges
  Feydeau\, 71100 Chalon-sur-SaôneMercredi 22 avril 202617h30 – 20h00
GEO:46.7946433;4.8378244
LOCATION:2 Rue Georges Feydeau 71100 Chalon-sur-Saône - FR
ORGANIZER:HOTELS BOURGOGNE QUALITÉ
END:VEVENT
END:VCALENDAR
