BEGIN:VCALENDAR
VERSION:2.0
CALSCALE:GREGORIAN
METHOD:PUBLISH
BEGIN:VEVENT
SUMMARY:22 MAI 22 MORNES 22 KM   2026  23e Edition
DTSTART:20260409T020000Z
DTEND:20260516T033000Z
DTSTAMP:20260423T191311Z
CATEGORIES:
DESCRIPTION:\nAfin d’assurer la sécurité et le bon déroulement de la 
 marche \, au 17\,500 km - 3è ravitaillement\,\n\nUn marcheur arrivant à 
 12h30 sur ce point sera automatiquement rapatrié.\n\nEn cas de refus\, il
  ne sera plus sous la responsabilité du club Ti chimen.            
                                                  
                                   \n\n	            
                                                  
                                              REGLEM
 ENT- MANIFESTATION Marche 22 Mai 22 Mornes 22 Kms \n\n	 \n\n	        
                                                  
                                                  
                                        Edition 2026  
 \n\nArticle 1 : Organisateur\n\n	La marche commémorative du 22 Mai 22 Mo
 rnes 22 Kms est organisée par le Club Ti Chimen (Association loi 1901) si
 s Espace Associatif Michel COSPAR – Rue Jules Ferry - en partenariat ave
 c la Ville du LORRAIN\n\nArticle 2 : Date\, horaires et circuits\n\n	La m
 arche se déroulera le 22 Mai 2026 au Lorrain. 5 H Accueil Complexe Sporti
 f Michel THALMENCY – LE LORRAIN 5H30 Echauffement 6H Départ : Groupé 
 12 H30 Retour Pointage + bracelet d’identification à chaque participant
 \n\nAfin d’assurer la sécurité et le bon déroulement de la marche \, 
 au 17\,500 km - 3è ravitaillement\, un marcheur arrivant à 12h30 sur ce 
 point sera automatiquement rapatrié. En cas de refus\, il ne sera plus so
 us la responsabilité du club Ti chimen.\n\n	Itinéraire : départ du Com
 plexe Sportif Michel THALMENCY Le Lorrain vers les quartiers et mornes\, r
 etour Complexe Sportif Michel THALMENCY Dénivelé positif : 872 m Animat
 ions dans les mornes et au stade. Circuit Moyen - accessible à tous et en
 fants 12 ans révolus sauf contre- indication médicale (case à cocher lo
 rs de l’inscription sur site de : my.weezevent.com/22mmk2026\n\n	3 poi
 nts de regroupement\, 3 navettes de rapatriement au (7\,12\,17\,5 Kms)  
 retour au Complexe Sportif Michel THALMENCY Ti nain Morue\n\nArticle 3 : 
 Inscriptions et Communication : Nombre de participants : 1000 marcheurs
  En ligne :  jusqu’au 15 Mai 2026  INFOLINE / 0696 84 71 82 - 0696 82
  90 05 – 0644 07 51 96 E-mail : clubtichimen@gmail.com Participation :
  15€ Le marcheur s’engage à respecter l’organisation mise en place 
 autour de cette marche et doit avoir sa timbale. Tous les marcheurs ont ob
 ligation de prendre la marche au départ et retour au Complexe Sportif Mic
 hel THALMENCY du LORRAIN. Il est interdit de s’infiltrer durant la march
 e. Information : au Comité de la Randonnée Pédestre de la Martinique\,
  RCI\, Flyers\, Journal France-Antilles\, Nord FM\, facebook \, Instagram\
 n\nArticle 4 : Assurance Attestation jointe\n\nArticle 5 : Sécurité 
 – Couverture Sanitaire\n\n	La sécurité sera assurée • par la Police
  Municipale pour la traversée de la N1 • 8 signaleurs mobiles sur la RD
  22 et les voies communales  • La couverture sanitaire sera assurée pa
 r la protection civile du Lorrain pour 1000 marcheurs avec un PC basé sur
  le stade et déplacement des secouristes par véhicule • Présence de 2
 0 PSC1 sur le circuit. • La Municipalité sera avisée de l’événemen
 t • Une liste des numéros de portable sera remise aux différents inter
 venants sur le parcours et le stade • 3 véhicules sont prévus pour le 
 rapatriement • Encadrants et membres de l’Association Club Ti Chimen 
 • Les marcheurs suivront et respecteront les instructions données conce
 rnant le respect du code de la route.\n\nArticle 6 : Droit à l’image\n
 \n	Du fait de sa participation\, chaque marcheur autorise l’organisateur
  à utiliser les images fixes ou audiovisuelles sur lesquelles il pourrait
  apparaître\, prises à l’occasion de sa participation à la marche\, s
 ur tous supports y compris les documents promotionnels et / ou publicitair
 es.\n\nArticle 7 : Annulation\, intempéries\n\n	L’organisateur se rés
 erve en cas de force majeure (intempéries\,….) et pour des raisons de s
 écurité\, le droit de modifier le parcours ou d’annuler la marche. Pro
 cédera au remboursement des inscriptions uniquement en cas d’annulation
  de la manifestation.\n\nArticle 8 : Environnement\n\n	Demandons aux part
 icipants : \n\n	De ramasser et emporter leurs déchets\, • Respecter e
 t ne pas dégrader les cultures et les plantations\, • Ne rien jeter sur
  la voie publique. • Avoir un comportement responsable et citoyen car un
 e partie du circuit se déroulant sur des terrains privés \n\n	      
                                                  
                                                  
                                                  
                                                  
                                                  
                                                  
                   Fait au Lorrain le 02 mars 2026          
                                                  
                                                  
                                                  
                                                  
                                                  
                                                  
                               Le Président Gabriel SAINT-A
 IME\n\n                                            
           Club Ti Chimen- Espace Associatif Michel COSPAR – Rue Jul
 es Ferry- 97214 – Le Lorrain Tél: 0696 84 71 82 - 0696 22 69 58 clubtic
 himen@gmail.com                                       
                   \n\n	 \n\nMarche Commémorative du 22 mai 2026
  23ᵉ édition \n\n	Programme :\n\n	• 5H RDV - ACCUEIL à l'entrée du
  Complexe sportif Michel THALMENCY\n\n• 5H30 ÉCHAUFFEMENT • 6H DÉPAR
 T \n\n	• RETOUR • LIVE de Môn La Wo \n\n	• Ti nain Morue / Animatio
 ns dans les mornes et au stade\n\n	• INSCRIPTIONS jusqu'au 15 mai \n\n	
 • INFOLINE : 0696 847 182 / 0696 829 005 / 0644 075 196 • COURRIEL : c
 lubtichimen@gmail.com \n\n\n                         N'oublie
  pas ta timbale réutilisable !\n\n\n	 \n
LOCATION:COMPLEXE SPORTIF MICHEL THALMENSY 97214 LE LORRAIN - MQ
ORGANIZER:Club Tichimen
END:VEVENT
END:VCALENDAR
