BEGIN:VCALENDAR
VERSION:2.0
CALSCALE:GREGORIAN
METHOD:PUBLISH
BEGIN:VEVENT
SUMMARY:Atelier d'initiation à la linogravure 
DTSTART:20260626T160000Z
DTEND:20260626T180000Z
DTSTAMP:20260423T181608Z
CATEGORIES:
DESCRIPTION:\n	Venez créer vos propres tampons pour vos cartes\, tirages 
 décoratifs ou tissus à personnaliser. Que vous soyez artiste en herbe ou
  simplement à la recherche d’une activité apaisante\, c’est l’occa
 sion de partager un moment convivial et d’apprendre de nouvelles techniq
 ues.\n	Atelier accessible à partir de 10 ans. Durée : 2h00\n
LOCATION:51 impasse de la mairie 62250 Bazinghen - FR
ORGANIZER:La terre des 2 caps
END:VEVENT
END:VCALENDAR
