BEGIN:VCALENDAR
VERSION:2.0
CALSCALE:GREGORIAN
METHOD:PUBLISH
BEGIN:VEVENT
SUMMARY:Fresque de l'économie politique - 18/05/2026
DTSTART:20260518T170000Z
DTEND:20260518T190000Z
DTSTAMP:20260424T173857Z
CATEGORIES:
DESCRIPTION:\n# Rendre l'économie accessible\n\nPourquoi y a-t-il des cri
 ses économiques ? Pourquoi les pays les plus riches sont également les p
 ays les plus endettés ? Pourquoi recherche-t-on la croissance économique
  ?\n\nPouvoir répondre à ces questions est bien plus important qu'on ne 
 le croit. Aussi\, la Fresque de l'économie politique s'adresse au grand p
 ublic\, et en particulier à ceux qui ont le sentiment de ne rien y compre
 ndre en matière d’économie.\n\nÀ la fin de l'atelier\, vous serez en 
 mesure de distinguer "sciences économiques" et "économie politique" d'u
 ne part\, puis d’autre part\, comprendre comment "économie réelle"\, "
 politique économique" et "système économique" s'articulent entre eux po
 ur faire tourner l'économie d'un pays.\n\n	 \n\n	 \n\n# Faire un pas de
  côté collectif\n\nLa pensée économique qui nous dirige actuellement p
 art du principe que l'être humain serait par nature calculateur et égo
 ïste ("homo economicus") et que permettre à tout un chacun·e de poursui
 vre son propre profit serait la meilleure façon qui soit de développer l
 'économie d'un pays ("main invisible").\n\nCes 2 heures seront égalemen
 t l'occasion d'identifier les leviers individuels les plus efficaces à n
 otre échelle\, lorsqu'il s'agit d'accélérer la transition économique v
 ers un monde laissant plus de place à la coopération et à l'écologie. 
 Ces leviers sont aujourd'hui trop souvent sous-estimés.\n\nLa transition 
 économique est en effet une pièce du puzzle largement méconnue de la tr
 ansition sociale et écologique. [On peut bien sûr parler de bifurcation
  ou de métamorphose\, plutôt que de transition.]\n\n	 \n\n	 \n\n	---\n
 \nLa Fresque de l'économie politique a été co-créée avec le studio na
 ntais "Les Autres Possibles". \n
LOCATION:10 Rue de l’Île Mabon 44200 Nantes - FR
ORGANIZER:Ammoneo
END:VEVENT
END:VCALENDAR
