BEGIN:VCALENDAR
VERSION:2.0
CALSCALE:GREGORIAN
METHOD:PUBLISH
BEGIN:VEVENT
SUMMARY:Tournoi Super Miaou
DTSTART:20260524T123000Z
DTEND:20260524T133000Z
DTSTAMP:20260423T184342Z
CATEGORIES:
DESCRIPTION:\n\n		Soyez le premier à recruter Super Miaou\, le super hér
 os félin !\n\n\n	 \n\n	Réussissez à l’attirer en lui offrant sa pât
 ée préférée et trouvez-lui un costume digne de ses exploits. À partir
  des mêmes cartes de départ\, chaque joueur compose son propre paquet de
  cartes en les obtenant au marché ou à la banque. Le premier joueur qui 
 arrive à avoir devant lui\, lors d’un même tour\, une carte Chat et un
 e carte Cape recrute Super Miaou et remporte la partie!\n
LOCATION:50 rue de la Grande Remise 78440 Porcheville - FR
ORGANIZER:ESPACE BORIS VIAN -
END:VEVENT
END:VCALENDAR
