BEGIN:VCALENDAR
VERSION:2.0
CALSCALE:GREGORIAN
METHOD:PUBLISH
BEGIN:VEVENT
SUMMARY:Tournoi Epic Mélée
DTSTART:20260523T143000Z
DTEND:20260523T153000Z
DTSTAMP:20260423T184218Z
CATEGORIES:
DESCRIPTION:\n	Epic Melee est un jeu de cartes rapide et plein de rebondis
 sements ! \n\n	Gérez une main de Champions hauts en couleur (chevaliers\
 , grenouilles invocatrices\, gobelins explosifs et bien d’autres) que vo
 us envoyez combattre dans l’Arène. \n\n	 \n\n	À chaque manche\, choi
 sissez deux cartes en même temps que vos adversaires et placez-les face c
 achée. Révélez en même temps votre carte de droite. \n\n	 \n\n	Le jo
 ueur possédant le pion Initiative choisit laquelle de ses deux cartes il 
 conserve dans l’Arène et en applique l’effet\, avant de passer l’In
 itiative à un autre joueur. Quand toutes les cartes sont choisies\, le co
 mbat commence ! \n\n	 \n\n	Les deux Champions les plus puissants remport
 ent un jeton Butin (Or ou Argent). Chaque Champion possède un pouvoir uni
 que capable de renverser la partie. Bluff\, timing et ruse seront vos meil
 leures armes pour devenir la légende de l’Arène !\n
LOCATION:50 rue de la Grande Remise 78440 Porcheville - FR
ORGANIZER:ESPACE BORIS VIAN -
END:VEVENT
END:VCALENDAR
