BEGIN:VCALENDAR
VERSION:2.0
CALSCALE:GREGORIAN
METHOD:PUBLISH
BEGIN:VEVENT
SUMMARY:Tournoi Dnup
DTSTART:20260523T133000Z
DTEND:20260523T143000Z
DTSTAMP:20260423T184231Z
CATEGORIES:
DESCRIPTION:\n\n		Un jeu de cartes qui peut se retourner contre vous !\n\n
 \nDnup est un jeu de cartes pour 2 à 5 joueurs. Dans ce jeu de défaus
 se\, vous gérez une main de cartes dont vous devez absolument vous débat
 rasser.\n\n	Le petit twist ? Les cartes possèdent deux valeurs et peuvent
  changer à tout moment ! Posez des combinaisons plus fortes que celles de
 s autres…\n\n	Mais prenez garde : vos cartes peuvent revenir dans votre 
 main\, retournées et chambouler la partie !\n\n	Alors\, qui se défausser
 a de toutes ses cartes le premier ?\n
LOCATION:50 rue de la Grande Remise 78440 Porcheville - FR
ORGANIZER:ESPACE BORIS VIAN -
END:VEVENT
END:VCALENDAR
