BEGIN:VCALENDAR
VERSION:2.0
CALSCALE:GREGORIAN
METHOD:PUBLISH
BEGIN:VEVENT
SUMMARY:Tournoi Légions
DTSTART:20260524T133000Z
DTEND:20260524T143000Z
DTSTAMP:20260423T184219Z
CATEGORIES:
DESCRIPTION:\nDuel pour une couronne !\n\nLes Seigneurs d’Abyss sont tir
 aillés : rester fidèles au Roi ou se rallier au Nécrocampe et à son r
 êve de pouvoir ? De tous côtés dans la cité\, les batailles éclatent.
  Tour après tour\, engagez de nouvelles légions dans ce combat pour votr
 e suprématie\, obtenez l’aide de valeureux héros et sapez le moral des
  troupes adverses. Chaque victoire acquise vous rapprochera du dénouement
  final\, mais votre rival ne se laissera pas faire : ses stratagèmes sont
  puissants. Brandir haut les bannières du Royaume marquera irrémédiable
 ment votre triomphe !\n\n\nUn jeu à 2 intense et stratégique\n\nUn syst
 ème de majorités qui crée des tensions\n\nUn nouvel aspect de l’unive
 rs d’Abyss\n\n
LOCATION:50 rue de la Grande Remise 78440 Porcheville - FR
ORGANIZER:ESPACE BORIS VIAN -
END:VEVENT
END:VCALENDAR
