BEGIN:VCALENDAR
VERSION:2.0
CALSCALE:GREGORIAN
METHOD:PUBLISH
BEGIN:VEVENT
SUMMARY:JUSTE ÊTRE - Entre l'élan et le calme...
DTSTART:20260413T180000Z
DTEND:20260413T193000Z
DTSTAMP:20260419T130752Z
CATEGORIES:
DESCRIPTION:En ce moment\, je sens à la fois une énergie qui pousse à a
 vancer… et un besoin très fort de ralentir.\nDe me poser. D’être là
 .\nEt je sais que si je ne m’écoute pas… cette énergie peut vite dev
 enir de la pression.\nDu stress. Du “il faut”.\nC’est facile aujourd
 ’hui de se laisser embarquer.\nFaire plus. Vouloir plus. Répondre aux a
 ttentes... et oublier d’écouter cette part de nous qui a juste besoin 
 qu’on s’arrête.\nJ’aime cette image : La boule à neige.\nTant que 
 tu la secoues\, tu ne vois rien. Mais quand tu la poses… Tout devient cl
 air.\nC’est exactement ce que je propose le lundi 13 avril.\nUn espace p
 our :\n• ralentir\n• déposer\n• écouter\n• revenir à toi\nUn mo
 ment Breathwork\, Yoga Nidra & Sound Healing\nPas pour faire plus. Mais po
 ur Juste Être.\n
LOCATION:11 rue la bruyère 87100 LIMOGES - FR
ORGANIZER:OASIS YOGA STUDIO
END:VEVENT
END:VCALENDAR
