BEGIN:VCALENDAR
VERSION:2.0
CALSCALE:GREGORIAN
METHOD:PUBLISH
BEGIN:VEVENT
SUMMARY:CHOCOLATE ART EXPERIENCE
DTSTART:20260418T133000Z
DTEND:20260418T173000Z
DTSTAMP:20260422T040015Z
CATEGORIES:
DESCRIPTION: \n CHOCOLATE ART EXPERIENCE — Women Warrior Academy\nOffre
 -toi une parenthèse d’exception autour du chocolat.\nLa Women Warrior A
 cademy t’invite à vivre une expérience pâtisserie immersive et raffin
 ée\, où chaque détail est pensé pour éveiller tes sens et révéler t
 a créativité.\nLe temps d’une après-midi\, plonge dans l’univers de
  la pâtisserie moderne et réalise un entremets 100 % chocolat\, élégan
 t\, intense et délicatement travaillé.\n \n Une expérience complète\n
 • Création d’un entremets signature au chocolat\n• Exploration des 
 textures : biscuit\, mousse\, insert\, flocage\n• Techniques professionn
 elles de montage et finitions\n• Conseils pour un rendu visuel élégant
  et maîtrisé\nTu repars avec ta création & et tu savoures sur place un 
 moment de dégustation privilégié\n \nInformations\n• Lieu : La Table
  d’Océane\n• Horaire : 14:30 à 18:30\n• Places limitées : 6 parti
 cipantes\n• Tarif : 90€\n \nL’expérience Women Warrior Academy\nUn
  moment exclusif\, intimiste et inspirant.\nIci\, on ne vient pas seulemen
 t apprendre\, mais vivre une expérience\, ralentir\, se reconnecter à so
 i et partager un instant précieux entre femmes.\n \n⸻\nAllergènes\nPr
 ésence possible : œufs\, lait\, gluten\, fruits à coque\n 
GEO:16.2261175;-61.7579827
LOCATION: 97122 Baie-Mahault - GP
ORGANIZER:Women Warrior Academy
END:VEVENT
END:VCALENDAR
