BEGIN:VCALENDAR
VERSION:2.0
CALSCALE:GREGORIAN
METHOD:PUBLISH
BEGIN:VEVENT
SUMMARY:WARRIOR RANDO AVRIL 2026
DTSTART:20260426T060000Z
DTSTAMP:20260422T040523Z
CATEGORIES:
DESCRIPTION:RANDONNÉE ENTRE WOMEN WARRIOR & PETIT DÉJEUNER LOCAL\nLieu 
 à découvrir : Cascade Lolia\, Petit-Bourg\nTarif : 20€ – Départ 7h 
 - Retour 12h\nRejoignez-nous pour une balade au cœur de la nature guadelo
 upéenne\, animée par une guide certifiée\, qui partagera ses connaissan
 ces sur la faune\, la flore et l’histoire du lieu. Une occasion parfaite
  pour se reconnecter à soi et à la nature !\nAu programme :– Randonné
 e guidée (niveau moyen à sportif) dans un cadre naturel apaisant– Cerc
 le d’ouverture & moment d’ancrage– Petit déjeuner local\, sain et g
 ourmand (jus frais\, fruits\, douceur maison\, options végé disponibles)
 – Moment d’échange & gratitude\nL’énergie de la nature + la puissa
 nce du collectif = un moment vibrant\, simple et profond.\nInfos important
 es :\n\nPrévoir chaussures adaptées\, eau et encas\nCertificat médical 
 d’aptitude à la pratique de toutes activités physiques et sportives OB
 LIGATOIRE ou à défaut le PPS (Pass Prévention Santé) accessible en lig
 ne.\nFin des inscriptions : 25 avril 2026\nMerci de renseigner son numéro
  de téléphone pour être informée du point de rendez-vous\n\n Ne manqu
 ez pas cette expérience ressourçante et conviviale !\nInformations compl
 émentaires disponibles sur le groupe Whatsapp de la communauté WOMEN WAR
 RIOR Guadeloupe\, accès au groupe : 0690962167.
GEO:16.4718892;-61.50860170000001
LOCATION:  Petit-Bourg - GP
ORGANIZER:Women Warrior Academy
END:VEVENT
END:VCALENDAR
