BEGIN:VCALENDAR
VERSION:2.0
CALSCALE:GREGORIAN
METHOD:PUBLISH
BEGIN:VEVENT
SUMMARY:WORKSHOP STREETJAZZ HEELS
DTSTART:20260412T123000Z
DTEND:20260412T143000Z
DTSTAMP:20260419T161614Z
CATEGORIES:
DESCRIPTION:\n	 \n\nWORKSHOP STREETJAZZ HEELS\n\nDIMANCHE 12 AVRIL 2026\n
 \nDebutant/inter\n\n14h30 - 16h30\n\nCentre de Danse du Marais \n\nTarif: 
 40€\n\n	 \n\nLes Heels ne sont pas seulement une question de séduction
  —\n\nIls sont une question de contrôle\, de force\, d’équilibre et 
 de confiance. \n\nDans ce stage\, vous apprendre :\n\n• Les bases du sty
 le\n	• Les mouvements de danse essentiels\n	• Les techniques de travai
 l au sol\n	• Différentes combinaisons de danse\n	• Plusieurs chorégr
 aphies et enchaînements pour mettre en valeur vos nouvelles compétences\
 n\n	 \n\nChaque mouvement commence par une base des Foundations:\n\n	 \
 n\n• des lignes nettes\n• une posture élégante et maîtrisée\n• d
 es transitions fluides et intentionnelles\n• une présence         
                                                  
                                                  
                                                  
                                             • et 
 surtout\, la sécurité\n\nMaîtrisez les bases\, et tout le reste suivra.
 \n\n	 \n\nInfos : ladyshockproject@gmail.com\n\n\n\n\n\nTenue: leggings o
 u short\, un haut.  \n\nN'oubliez pas vos Talons vos Genoulilères vos Li
 pstick et une Boutielle d'eau.  \n\n					 \n\n"Les stages et workshops 
 ne sont pas remboursables . Un avoir pourra toutefois être accordé pour 
 uniquement un autre événement ou stage Ladyshock. \n\nCette validation p
 our un avoir il est valide pendant 1 ans de la date d'annulation.\n\nApres
  cette date l'avoir n'est plus valide." \n\n                   
       \n\n\n\n\n\n\n\n			 \n\n\n\n	 \n
LOCATION:41 RUE DU TEMPLE 75004 PARIS - FR
ORGANIZER:Ladyshock Steffi Session 
END:VEVENT
END:VCALENDAR
