BEGIN:VCALENDAR
VERSION:2.0
CALSCALE:GREGORIAN
METHOD:PUBLISH
BEGIN:VEVENT
SUMMARY:Afterwork WiG France - 23 avril 2026 - Paris
DTSTART:20260423T170000Z
DTEND:20260423T213000Z
DTSTAMP:20260423T093616Z
CATEGORIES:
DESCRIPTION:\nWomen in Games France vous invite pour une rencontre inform
 elle le jeudi 23 avril à partir de 19h\, au sein du bar We are Brewers.\n
 \n	Cette soirée est ouverte à tout le monde\, et sera l'occasion de se r
 encontrer pour passer un bon moment tous·tes ensemble. Nous espérons vo
 us y voir nombreux-ses !\n\n	Pour toute question\, veuillez contacter zoe@
 wigfr.org.\n
LOCATION:16 Bd Jules Ferry\, 75011 Paris 75011  Paris - FR
ORGANIZER:Women in Games France
END:VEVENT
END:VCALENDAR
