BEGIN:VCALENDAR
VERSION:2.0
CALSCALE:GREGORIAN
METHOD:PUBLISH
BEGIN:VEVENT
SUMMARY:TotalEnergiesQatar
DTSTART:20260429T160000Z
DTEND:20260429T190000Z
DTSTAMP:20260422T140824Z
CATEGORIES:
DESCRIPTION:\n	INVITATION GRACIEUSE\, AVEC NOUVELLE DATE LE 29 AVRIL\, A U
 NE PROCHAINE\n\n	 \n\nSoirée X Mer consacrée au Qatar\, à la crise et 
 aux marchés du gaz autour de:\n\nAntoine Delafargue\, Président de Tot
 al Energie Qatar\n\nDidier Holleaux\, expert dans les marchés du gaz\n\na
 vec la partipation de Nicolas Descoqs\, Clartan Associés\, \n\nSalon Aig
 le Maison des X le 29 avril de 18h00 à 19h45\, pot amical à l'issue.\n\n
 	 \n\nQuelle gestion de crise ?\n\nQuelles perspectives pour les marchés
  ?\n\nQuel nouveau regard sur la décarbonation ? \n\n	 \n\nPour répond
 re à ces questions et pour poser les votres\, X Mer a invité trois inter
 venants:\n\nAntoine Delafargue tient les rênes des opérations de Total 
 Energies au Qatar. Nous profitons de la présence d'Antoine lors de son pr
 ochain passage à Paris\, et de l'expertise de Didier Holleaux\, expert da
 ns les marchés du gaz\, administrateur de sociétés et auteur de "La vra
 ie histoire du gaz"\, pour aborder la situation de crise particulière que
  connaît la région du Golfe Persique dans le contexte de guerre\, et les
  conséquences mondiales immédiates et à terme sur les marchés du gaz\
 , avec un nouveau regard porté ensemble sur la décarbonation. Nicolas De
 scoqs\, conseil financier et investisseur\, expert des marchés de l'éner
 gie\, évoquera d'entrée ses constats et hypothèses d'évolution de la c
 rise\, étayées par ses observations.\n\nPour faire connaissance avec Ant
 oine\, Didier et Nicolas\, pour en savoir plus sur le contexte de crise ma
 jeure que la guerre du Golfe suscite pour le pays\, et pour mieux comprend
 re et mieux anticiper les marchés\, il faut s'inscrire sur le formulaire 
 ci-dessous. Pot amical à l'issue.\n\nNB: La date a été repoussée de 6 
 jours\, au 29 avril\, à la demande d'un intervenant\, et le lieu a chan
 gé\, nous vous prions de nous en excuser. Tous les participants déjà i
 nscrits le 23 avril sont reconduits le 29 avril automatiquement (sur place
  à la Maison des Ponts ou à distance)\, sauf si expresse renoncement exp
 rimé ci-dessous\, donnant lieu à remboursement selon le cas. X Mer souti
 ent la gratuité des connections et TotalEnergies soutient le pot/coquetè
 le amical proposé par la Maison des Ponts.\n\n	 \n\nA propos d'Antoine D
 elafargue\n\nX00\, diplômé du MIT\, Antoine a fait toute sa carrière ch
 ez Total Energies. Il a été successivement ingénieur réservoir\, puis 
 chef de service\, puis en charge d'acquisition de nombreuses sociétés du
  secteur énergie renouvelables du Groupe\, puis Directeur BU Energies Ren
 ouvelables. Il préside actuellement les activités du Groupe TotalEnergie
 s au Qatar\, engagé résolument dans le développement des énergies reno
 uvelables\, il est confronté à une crise pétrilère et gazière d'ample
 ur inégalée.\n\nA propos de Total energies au Qatar\n\nPrésent au Qatar
  depuis 1935\, disposant par exemple de capacité de 800 MWc de production
  solaire\, et de 300 000 Barils par jour de production de pétrole\, le Gr
 oupe y est actif dans les énergies renouvelables et la R&D\, l'explorati
 on-production de pétrole\, le GNL\, le raffinage\, la pétrochimie et la 
 commercialisation de lubrifiants.\n\n	 \n\nA propos de Didier Holleaux\n\
 nX79\, corps des Mines\, Didier a commmencé sa carrière comme ingénieur
  dans l'industrie automobile et l'industrie pétrolière. Après quinze an
 s au service de l'Etat\, achevés comme directeur de cabinet du Ministre d
 e l'Energie\, il rejoint le groupe Gaz de France (Engie) en 1993. Il réal
 ise un parcours au sein d'ENGIE dans les domaines du transport et du stock
 age de gaz\, de l'exploration production\, du GNL et de la distribution (a
 nciennement EDF GDF services)\, en France et à l'International. Depuis le
  1er juillet 2015\, jusqu'à son départ en retraite fin 2025\, il était 
 DGA d'ENGIE. Il a été Président de l'Association Eurogas de 2021 à 202
 4. Expert en marchés gaziers\, administrateur de sociétés\, Didier est 
 aussi auteur de "La vraie Histoire du Gaz" paru récemment aux Editions du
  Cherche Midi. \n\nA propos de Nicolas Descoqs\n\nX00\, master en ingéni
 erie pétrolière de NTNU (Norvège)\, Nicolas Descoqs rejoint CONOCO Phil
 ips en 2005 et travaille 9 ans en Norvège\, Chine et Etats-Unis\, puis re
 joint la société londonienne Alken Asset Management en 2014 comme analys
 te actions spécialisé notamment dans le secteur énérgétique. Il y a a
 ussi géré un hedge fund d'électricité et de gaz. Nicolas rejoint Clart
 an Associés en 2021 où il gère un fonds de près d'1 milliard d'Euro et
  devient généraliste financier.  \n\n	 \n\nCette manifestation béné
 ficie du soutien de l'AX\, de l'UNIPEF\, de Ponts Alumni / Ponts Maritime\
 , des alumni de l'ENSTA\, des X Gaziers. \n\nNB: La date a été repouss
 ée de 6 jours\, au 29 avril à la demande d'un intervenant\, nous vous pr
 ions de nous en excuser. Tous les participants déjà inscrits le 23 avri
 l sont reconduits le 29 avril automatiquement (sur place à la Maison des
  Ponts ou à distance)\, sauf si expresse modification ci-dessous donnant 
 lieu à éventuel remboursement selon le cas.\n
LOCATION:42 rue Boissière 75116 Paris - FR
ORGANIZER:X Mer
END:VEVENT
END:VCALENDAR
