BEGIN:VCALENDAR
VERSION:2.0
CALSCALE:GREGORIAN
METHOD:PUBLISH
BEGIN:VEVENT
SUMMARY:Textured Forms - Atelier Silver Clay
DTSTART:20260425T120000Z
DTEND:20260426T110000Z
DTSTAMP:20260420T141424Z
CATEGORIES:
DESCRIPTION:Créez votre propre bijou en argent\, façonné à la main. Un
  moment pour ralentir\, explorer la matière et repartir avec une pièce u
 nique\, empreinte de votre geste.\nLe silver clay est une pâte composée 
 de particules d'argent\, d'eau et d'un liant organique. Elle se travaille 
 comme une argile\, puis\, après cuisson au chalumeau\, se transforme en a
 rgent pur à 99\,9%.\nEn trois heures\, vous façonnerez votre propre tali
 sman : une paire de boucles d'oreilles organiques ou un pendentif. Sculpte
 r\, texturer\, polir. Repartir avec une pièce qui vous ressemble.\nAucune
  expérience préalable nécessaire. Vous êtes guidé à chaque étape.\n
 Informations pratiques Durée : 3 heures · Niveau : débutants bienvenus 
 · Participants : 10 maximum · Tarif : 190 CHF\nCe qui est inclus 10g de 
 pâte d'argent\, 4 pierres ou perles\, apprêts de base\, matériel comple
 t\, boissons et boîte pour votre création.\nOptions disponibles sur plac
 e Chaîne argent 925 avec fermoir : 20 CHF · Pâte supplémentaire : 8 CH
 F/g · Pierre ou perle additionnelle : 2 CHF
GEO:46.4600471;6.8430711
LOCATION:4 Grande Place 1800 Vevey - CH
ORGANIZER:Soa Rituals
END:VEVENT
END:VCALENDAR
