BEGIN:VCALENDAR
VERSION:2.0
CALSCALE:GREGORIAN
METHOD:PUBLISH
BEGIN:VEVENT
SUMMARY:Cinéma plein Air
DTSTART:20260802T183000Z
DTEND:20260816T183000Z
DTSTAMP:20260419T134843Z
CATEGORIES:
DESCRIPTION:Cinéma sous les étoiles à Palluel\n\nVivez la magie du sept
 ième art sous la voûte étoilée d'Écoland. Une expérience unique à p
 artager en famille ou entre amis\, confortablement installés dans notre c
 adre naturel.\n\nLe concept : C'est VOUS qui choisissez le film !\nParce q
 ue nous voulons que ces soirées vous ressemblent\, le film projeté sera 
 soumis à votre vote sur notre page https://www.facebook.com/ecolandexperi
 ence/  trois semaines avant chaque séance. Trois pépites du cinéma vou
 s seront proposées... À vos votes !\nLa séance est proposée gratuiteme
 nt. Les places sont limitées.
GEO:50.2689439;3.094824
LOCATION:25 Chemin du Marais 62860 Palluel - FR
ORGANIZER:ECOLAND
END:VEVENT
END:VCALENDAR
