BEGIN:VCALENDAR
VERSION:2.0
CALSCALE:GREGORIAN
METHOD:PUBLISH
BEGIN:VEVENT
SUMMARY:Yoga Sénior
DTSTART:20261003T130000Z
DTEND:20261003T150000Z
DTSTAMP:20260419T134741Z
CATEGORIES:
DESCRIPTION:Yoga Seniors – Douceur & Bien-être\nOffrez-vous un moment d
 e détente et de remise en mouvement en toute sérénité.\n \nAu program
 me :\n• Yoga adapté sur chaise pour un travail en douceur\, favorisant 
 le relâchement physique et la mobilité\n• Marche méditative d’envir
 on 30 minutes\, au rythme de chacun\, pour se reconnecter à soi et à la 
 nature\n \nUne séance accessible à tous\, idéale pour prendre soin de 
 son corps tout en douceur\, dans une ambiance bienveillante.\n \nEncadré
  par Rachel\, éducatrice sportive spécialisée en yoga et Pilates\, gér
 ante du Family Studio – Pôle Santé à Haspres.\n \nParticipation : 20
  €\n \nInscription gratuite – règlement sur place
GEO:50.2689439;3.094824
LOCATION:25 Chemin du Marais 62860 Palluel - FR
ORGANIZER:ECOLAND
END:VEVENT
END:VCALENDAR
