BEGIN:VCALENDAR
VERSION:2.0
CALSCALE:GREGORIAN
METHOD:PUBLISH
BEGIN:VEVENT
SUMMARY:Yoga Chocolat
DTSTART:20260920T130000Z
DTEND:20260920T150000Z
DTSTAMP:20260419T134741Z
CATEGORIES:
DESCRIPTION:Yoga & Chocolat – L’aventure des petits explorateurs\n \n
 Et si votre enfant partait pour un voyage sensoriel pas comme les autres ?
 \nUn après-midi où le corps bouge\, où l’imaginaire s’éveille… e
 t où le chocolat devient une récompense gourmande.\n \nL’aventure com
 mence en douceur…\nÀ travers des jeux de yoga ludiques\, les enfants d
 écouvrent leur corps\, apprennent à respirer et à se détendre tout en 
 s’amusant. Ils explorent leurs cinq sens grâce à des activités mêlan
 t mouvement\, écoute et imagination.\n \nPuis\, place à la magie…\nUn
  chocolatier intervient pour un atelier gourmand où chaque enfant crée s
 a propre sucette en chocolat. Un moment créatif\, joyeux et délicieux !\
 n \nEt pour terminer ce voyage…\nUn retour au calme tout en douceur : j
 eux autour de la respiration et découverte du yoga du son\, pour apaiser 
 le corps et l’esprit.\n \nUn moment complet pour bouger\, créer\, ress
 entir… et repartir avec des étoiles plein les yeux (et un peu de chocol
 at !).\n \nPour les enfants de 4 à 10 ans\nEncadré par Rachel\, éducat
 rice sportive spécialisée en yoga et Pilates\, gérante du Family Studio
  – Pôle Santé à Haspres.\n \nParticipation : 25 €\n \nInscription
  gratuite – règlement sur place
GEO:50.2689439;3.094824
LOCATION:25 Chemin du Marais 62860 Palluel - FR
ORGANIZER:ECOLAND
END:VEVENT
END:VCALENDAR
