BEGIN:VCALENDAR
VERSION:2.0
CALSCALE:GREGORIAN
METHOD:PUBLISH
BEGIN:VEVENT
SUMMARY:Pilate & Apéro
DTSTART:20260620T160000Z
DTEND:20260620T180000Z
DTSTAMP:20260419T134746Z
CATEGORIES:
DESCRIPTION:Pilates & Apéro\nOffrez-vous une parenthèse de bien-être en
 tre mouvement et convivialité :\n• Séance de Pilates pour renforcer le
  corps en douceur\n• Apéro gourmand à partager dans un cadre exception
 nel\n \nVenez découvrir une pratique complète\, guidée par une profess
 ionnelle passionnée\, alliant tonus\, respiration et lâcher-prise.\nL’
 expérience se prolonge sur le rooftop du Super Adobe d’Ecoland\, un bâ
 timent en terre unique\, avec une vue imprenable sur la nature environnant
 e… un moment suspendu\, entre ciel et verdure.\nUn cadre idéal pour se 
 détendre\, échanger et profiter d’un instant hors du temps.\n \nParti
 cipation : 25 €\n \nInscription gratuite – règlement sur place
GEO:50.2689439;3.094824
LOCATION:25 Chemin du Marais 62860 Palluel - FR
ORGANIZER:ECOLAND
END:VEVENT
END:VCALENDAR
