BEGIN:VCALENDAR
VERSION:2.0
CALSCALE:GREGORIAN
METHOD:PUBLISH
BEGIN:VEVENT
SUMMARY:Yoga Fleur de Bach
DTSTART:20260516T130000Z
DTEND:20260516T150000Z
DTSTAMP:20260419T134734Z
CATEGORIES:
DESCRIPTION:Yoga & Fleurs de Bach\nAnne-Sophie vous accompagne lors d’un
  atelier dédié aux Fleurs de Bach. Elle vous fera découvrir les bienfai
 ts de chaque plante et vous guidera dans la création de votre propre mél
 ange personnalisé.\nUne fois votre flacon préparé\, l’atelier se pour
 suit avec Rachel pour une séance de Pranayama (respiration) suivie d’un
  Yin Yoga : un véritable moment de détente et de douceur.\n \nParticipa
 tion : 25 €\n \n \nInscription gratuite - règlement sur place\n \n 
GEO:50.2689439;3.094824
LOCATION:25 Chemin du Marais 62860 Palluel - FR
ORGANIZER:ECOLAND
END:VEVENT
END:VCALENDAR
