BEGIN:VCALENDAR
VERSION:2.0
CALSCALE:GREGORIAN
METHOD:PUBLISH
BEGIN:VEVENT
SUMMARY:JAHMBASSADOR HIFI IN ONENESS WITH AGOBUN SOUND SYSTEM
DTSTART:20260613T200000Z
DTSTAMP:20260424T163855Z
CATEGORIES:
DESCRIPTION:
LOCATION:Kanteelpad 4 8900 Ieper - BE
ORGANIZER:SATTA MASSA PROMOTIONS
END:VEVENT
END:VCALENDAR
