BEGIN:VCALENDAR
VERSION:2.0
CALSCALE:GREGORIAN
METHOD:PUBLISH
BEGIN:VEVENT
SUMMARY:Chebi2 - Чебурашка2 - Firenze 19.04 - 11ч
DTSTART:20260419T090000Z
DTEND:20260419T105000Z
DTSTAMP:20260422T220305Z
CATEGORIES:
DESCRIPTION:\nЭто частный сеанс в арендованном
  зале\, фильма нет в афише и кассе кинотеа
 тра. \n\nФильм - ЧЕБУРАШКА 2 - Cheburashka 2\n\nНа ру
 сском языке c англ. субтитрами - in Russian with E
 nglish subs. \n\nPrivate event. Частный показ.  Рекоме
 ндация 6+ \, более ранний возраст в сопров
 ождении родителей и на их усмотрение. Пр
 одолжительность фильма 103 минуты. Film duratio
 n 103 minutes. \n\n	Уже год\, как Чебурашка живет
  у Гены. Ушастик взрослеет\, и у друзей ч
 асто случаются разногласия: Чебурашка н
 ачинает проявлять излишнюю самостоятел
 ьность и хулиганить\, а Гена пытается ег
 о воспитывать. Их приглашают на роскошн
 ый день рождения Сони\, где ушастик случ
 айно портит праздник. В надежде избежат
 ь очередной ссоры\, Чебурашка вместе с С
 оней и Гришей тайно сбегают в горы\, где
  их ждут невероятные пейзажи и захватыв
 ающие\, но опасные приключения. Обнаружи
 в пропажу\, взрослые объединяются\, чтобы
  вернуть детей домой. Им будет нужно исп
 равить ситуацию и научиться прислушива
 ться друг к другу.\n\n*купленные билеты во
 зврату и обмену не подлежат\, кроме случа
 ев отмены сеанса \n\n*tickets are not refunded unless the e
 vent is cancelled\n\n	 \n
LOCATION:Via di Novoli\, 2 50127 Firenze - IT
ORGANIZER:Swiss Partnership SP
END:VEVENT
END:VCALENDAR
