BEGIN:VCALENDAR
VERSION:2.0
CALSCALE:GREGORIAN
METHOD:PUBLISH
BEGIN:VEVENT
SUMMARY:Film: August
DTSTART:20260507T170000Z
DTSTAMP:20260424T181100Z
CATEGORIES:
DESCRIPTION:August 1944. Die abgelegenen Wälder Westbelarusslands. Mittel
 erde\, kürzlich befreites Gebiet – eine besondere Zone\, in der feindli
 che Aufklärungs- und Sabotagegruppen\, zurückgelassen im sowjetischen R
 ücken\, operieren. Die sowjetischen Truppen überschreiten die Staatsgren
 ze\, der Krieg wendet sich. Einen Rückschlag für die vorrückende Armee 
 kann nur ein Angriff von hinten verhindern. Den Überfall aufhalten könne
 n nur die wahren Experten der Spionageabwehr.\nRegie: Nikita Vysotsky\, Il
 ya LebedevMit: Sergey Bezrukov\, Nikita Kologrivyy\, Pavel Tabakov\, Ilya 
 Isaev\, Daniil Vorobyov\, Roman Madyanov\, Aleksandr Ustyugov\, Kirill Kuz
 netsov\, Roman Vasilyev\, Denis Nurulin\nMilitärhistorischer Thriller in 
 russischer Sprache mit englischen UntertitelnRussland\, 2025FSK: 18+
GEO:52.5135209;13.3888922
LOCATION:176-179 Friedrichstraße 10117 Berlin - DE
ORGANIZER:Russisches Haus in Berlin
END:VEVENT
END:VCALENDAR
