BEGIN:VCALENDAR
VERSION:2.0
CALSCALE:GREGORIAN
METHOD:PUBLISH
BEGIN:VEVENT
SUMMARY:Film: Zum Wegwerfen
DTSTART:20260512T170000Z
DTSTAMP:20260424T184908Z
CATEGORIES:
DESCRIPTION:Die elegante Krawatte Mak landet auf dem Müllplatz\, wo sie e
 ine elegante Vase\, eine Sprühdose Lufterfrischer\, einen Schuh mit klebe
 ndem Kaugummi an der Sohle und eine Garnrolle trifft. Gemeinsam begeben si
 e sich auf eine unglaubliche Reise: Mak träumt davon\, sein früheres Leb
 en zurückzubekommen\, während die anderen hoffen\, ein Paradies zu finde
 n\, in dem alle ihre Wünsche in Erfüllung gehen.\nRegie: Konstantin Bron
 zit\nFamilien-Animationsfilm in russischer SpracheRussland\, 2021FSK: 6+
GEO:52.5135209;13.3888922
LOCATION:176-179 Friedrichstraße 10117 Berlin - DE
ORGANIZER:Russisches Haus in Berlin
END:VEVENT
END:VCALENDAR
