BEGIN:VCALENDAR
VERSION:2.0
CALSCALE:GREGORIAN
METHOD:PUBLISH
BEGIN:VEVENT
SUMMARY:Assemblée Générale Les Agriculteurs ont du coeur !
DTSTART:20260511T153000Z
DTSTAMP:20260423T161447Z
CATEGORIES:
DESCRIPTION:
GEO:48.8783749;2.3289442
LOCATION:8 Rue d'Athènes 75009 Paris - FR
ORGANIZER:Les agriculteurs ont du coeur !
END:VEVENT
END:VCALENDAR
