BEGIN:VCALENDAR
VERSION:2.0
CALSCALE:GREGORIAN
METHOD:PUBLISH
BEGIN:VEVENT
SUMMARY:Yoga\, bain sonore et Brunch
DTSTART:20260412T080000Z
DTSTAMP:20260419T134843Z
CATEGORIES:
DESCRIPTION:Offrez-vous une parenthèse de détente avec ce moment alliant
  corps et esprit :\n \n• Initiation au yoga avec Rachel\, d’Harmonie 
 Studio\n• Bain de gong pour une relaxation profonde\n• Brunch gourmand
  préparé par Perrine d’Ecoland\n \nVenez découvrir ces pratiques bie
 n-être\, guidé(e) par des professionnelles passionnées et expérimenté
 es.\n \nDeux ambiances au choix pour vivre pleinement l’expérience :\n
 • Sous la tente bédouine\, en pleine nature\n• Dans la yourte tribu\,
  un lieu unique et apaisant\n \nEncadré par Rachel\, éducatrice sportiv
 e spécialisée en yoga et Pilates\, gérante du Family Studio – Pôle S
 anté à Haspres.\n \n \nParticipation : 45 €\n \nInscription gratuit
 e – règlement sur place
GEO:50.2689439;3.094824
LOCATION:25 Chemin du Marais 62860 Palluel - FR
ORGANIZER:ECOLAND
END:VEVENT
END:VCALENDAR
