BEGIN:VCALENDAR
VERSION:2.0
CALSCALE:GREGORIAN
METHOD:PUBLISH
BEGIN:VEVENT
SUMMARY:JAZZBONNE FESTIVAL 2026 - Section LIV / KEVIN SAURA GROUP 
DTSTART:20260502T183000Z
DTEND:20260502T213000Z
DTSTAMP:20260424T001303Z
CATEGORIES:
DESCRIPTION:\n\n\n\n\n\n\nLe Kevin Saura Group\, mené par le guitariste 
 et compositeur français Kevin Saura\, s’impose comme l’une des forma
 tions les plus vibrantes de la nouvelle scène jazz-fusion. Porté par un 
 jeu de guitare expressif\, le groupe développe un univers où le jazz ren
 contre le funk\, le rock et l’improvisation moderne. « Chez Saura\, M
 iles\, Wes et côtoient le Voodoo Child. » (Benoît Merlin)\n\nAvec deu
 x albums remarqués\, « Dirty Talks »\, récompensé par la Sacem avec
  l’aide à l’autoproduction\, puis « Ahead! »\, véritable manifes
 te de leur maturité artistique\, le Kevin Saura Group affirme une identit
 é sonore immédiatement reconnaissable : audacieuse\, mélodique et réso
 lument contemporaine. \n\nSur scène\, le groupe électrise les publics e
 n France\, en Italie\, en Roumanie\, en Bulgarie\, et jusqu’en Indo
 nésie\, où il signe en 2025 une performance remarquée au NgayogJazz Fe
 stival dans le cadre d’une tournée de concerts et de masterclass port
 ée par l’Institut Français Indonésien\, WartaJazz\, Demajors et Tweed
  Productions. \n\nLine-up : \n							Kevin Saura - guitare\n							Auré
 lien Miguel - guitare\n							Romann Dauneau - basse\n							Felix Jovenia
 ux - batterie\n							Philippe Ciminato - percussions\n\n\n\n\n\n\n\n	 \n
LOCATION:Espace de la Vignasse 06560 VALBONNE - FR
ORGANIZER:Association JMSU
END:VEVENT
END:VCALENDAR
