BEGIN:VCALENDAR
VERSION:2.0
CALSCALE:GREGORIAN
METHOD:PUBLISH
BEGIN:VEVENT
SUMMARY:(Reprise) Le Guide des services d'architecture
DTSTART:20260514T130000Z
DTEND:20260514T163000Z
DTSTAMP:20260423T024649Z
CATEGORIES:
DESCRIPTION:\nGUIDE DES SERVICES D'ARCHITECTURE\n\n(REPRISE DE LA FORMATIO
 N DU 29 OCTOBRE 2025)\n\nAAPPQ\n\n	14/05/2026\n\nBien comprendre le Guide 
 des services d’architecture et être bien outillé·e pour négocier ses
  services professionnels \n\n	 \n\n	FORMATION WEBINAIRE – 14 mai 2026\
 , de 9 h à 12 h 30  \n\nActivité reconnue par l'OAQ dans le cadre de l
 a formation continue des architectes (3h30)\n\n	PROGRAMME : \n\n\n		Une r
 evue commentée du Guide des services d’architecture\n\n		Des exemples 
 concrets d'application du Guide\n\n\n	 \n\n	Le tarif d’honoraires pour
  services professionnels rendus au gouvernement par des architectes (commu
 nément appelé le « Décret ») est aboli depuis le 5 juillet 2025. Un
  Guide des services d'architecture (Guide) appuie désormais les architect
 es dans la négociation et l'estimation des honoraires pour les contrats p
 ublics attribués sur la base de la qualité.\n\n	 \n\n	Le Guide est l
 ’aboutissement d’un travail de longue haleine accompli par l’AAPPQ e
 t le Secrétariat du Conseil du trésor (SCT). Il offre un cadre de réf
 érence clair\, détaillé\, flexible et se veut pérenne et évolutif. Il
  s’agit d’un document de travail précieux offrant une base solide et 
 modulable sur laquelle s’appuyer lors de négociations avec les donneurs
  d’ouvrage ou à titre de référence pour différents modes d'adjudicat
 ion.\n\n	 \n\n	L’utilisation du Guide n’est pas obligatoire\, mais 
 elle est fortement recommandée par le SCT\, pour les contrats publics att
 ribués sur la base de la qualité.\n\n	 \n\nCette conférence est une re
 prise de la conférence présentée le 29 octobre 2025.Elle vous est rése
 rvée et vous permettra de vous familiariser avec le Guide. Nos confére
 nciers·ères le commenteront et vous donneront des clés pour vous outill
 er dans vos négociations de services professionnels.  \n\n	 \n\n	Nous v
 ous conseillons fortement de consulter le Guide avant l’événement et 
 de l’avoir à portée de main durant la formation.\n\n	 \n\n	La confér
 encière et le conférencier seront :\n\n\n		Anne Lafontaine\, président
 e du conseil d'administration de l’AAPPQ et responsable du comité sur l
 es organisems publics.\n\n		François Paradis\, vice-président du conseil
  d'administration de l’AAPPQ et responsable du comité sur les organisme
 s publics\, chantier BIM\n\n\n	 \n\n	La conférence sera animée par Lyne
  Parent\, directrice générale de l’AAPPQ.\n\n	 \n\nAVANT DE VOUS INSC
 RIRE\, VEUILLEZ PRENDRE NOTE DES INFORMATIONS IMPORTANTES CI-DESSOUS :\n\
 n\nCette formation ne sera pas disponible en rediffusion.\n\nLe document d
 e la présentation vous sera envoyé la veille de la formation.\n\nVotre l
 ien d’accès personnalisé à la visioconférence\, associé à l’adre
 sse de courriel fournie lors de l’inscription\, vous sera envoyé la ve
 ille de la formation (en provenance de Zoom).\n\n Veuillez vous assurer 
 d’inscrire une adresse de courriel distincte pour chaque participant·e.
 \n\nUn courriel d’attestation vous sera envoyé après la formation.\n\n
LOCATION:  
ORGANIZER:AAPPQ
END:VEVENT
END:VCALENDAR
