BEGIN:VCALENDAR
VERSION:2.0
CALSCALE:GREGORIAN
METHOD:PUBLISH
BEGIN:VEVENT
SUMMARY:JAZZBONNE FESTIVAL 2026 - JMSU Big Band / MANU LEPRINCE QUARTET
DTSTART:20260501T183000Z
DTEND:20260501T213000Z
DTSTAMP:20260424T001854Z
CATEGORIES:
DESCRIPTION:\n\n\n\n				MANU LE PRINCE / MANU LEPRINCE 4tet\n\n				 \n\n	
 			 \n\n				Chanteuse sans frontières\, Manu Le Prince a su s'imposer au
  fil des années comme l'une des plus belles voix du Latin Jazz de l’hex
 agone.  \n\n				Vocaliste au timbre chaud et sensuel\, auteur-compositeur
 \, elle sait aussi comme interprète\, teinter de sa personnalité les sta
 ndards et leur donner une dimension nouvelle.\n\n				Brésilienne de cœur
  et anglo-sud américaine de par ses origines\, Manu se partage depuis plu
 s d'une vingtaine d'années entre Paris et Rio\, mêlant intimement avec b
 onheur le Jazz qui a bercé son enfance à la musique ethnique ou brésili
 enne\, prolongeant ainsi un parcours haut en couleurs. Manu Le Prince\, qu
 i a fait partie de diverses formations ( Magma \, Odeurs\, Urban Sax\, Bot
 o e Novos Tempos...) a aussi à son actif plusieurs albums sous son nom.\n
 \n\n\n\n	 \n
LOCATION:Espace de la Vignasse 06560 VALBONNE - FR
ORGANIZER:Association JMSU
END:VEVENT
END:VCALENDAR
