BEGIN:VCALENDAR
VERSION:2.0
CALSCALE:GREGORIAN
METHOD:PUBLISH
BEGIN:VEVENT
SUMMARY:Theater: Wie Emelja sein Glück fand
DTSTART:20260530T140000Z
DTSTAMP:20260422T154747Z
CATEGORIES:
DESCRIPTION:Die Grundlage der Inszenierung ist ein altes russisches Märch
 en\, das auf der Bühne zu neuem Leben erwacht. Es gibt viele Varianten de
 r warmherzigen\, lehrreichen Geschichte über den Faulpelz Emelja und sein
 e Begegnung mit dem wundersamen Hecht. Das Stück erzählt sie auf eigene 
 Weise. Unverändert bleibt das Wesentliche: der Dorfjunge Emelja \, der Za
 uberhecht\, der Wünsche erfüllt\, und echtes Theaterzauber! Eimer laufen
  von selbst\, die Axt hackt alleine\, der Brei kocht wie von Zauberhand im
  Tontopf und der Ofen setzt sich ganz ohne Hilfe in Bewegung.\nDer liebens
 werte Träumer und Schelm Emelja sehnt sich nach Glück\, weiß aber nicht
  genau\, was es ist und wo man es findet. Seine unerschöpfliche Fantasie 
 bringt ihn in die verschiedensten Situationen\, die ihn Fleiß lehren\, Ve
 rantwortung für seine Worte\, die Fähigkeit\, seine Wünsche rechtzeitig
  zu erkennen und vor allem die einfache Wahrheit: Das Glück hängt vom Me
 nschen selbst ab und ist immer ganz nah. Man muss es nur sehen.\nEin bunte
 s musikalisch-theatralisches Spiel mit Liedern und Tänzen\, Späßen und 
 kleinen Wortscherzen\, mit Humor für Kinder und Erwachsene\, hebt die Sti
 mmung und reißt das Publikum mit. Die Wärme und Aufrichtigkeit\, die das
  ganze Stück durchziehen und die uns heute so oft fehlen\, lassen sogar E
 rwachsene wieder zu Kindern werden und mit angehaltenem Atem dem Geschehen
  auf der Bühne folgen.\nAufführung in russischer Sprache des Berliner Th
 eaters "Russische Bühne" für KinderRegie: Inna Sokolova-GordonFSK: 3+
GEO:52.5135209;13.3888922
LOCATION:176-179 Friedrichstraße 10117 Berlin - DE
ORGANIZER:Russisches Haus in Berlin
END:VEVENT
END:VCALENDAR
