BEGIN:VCALENDAR
VERSION:2.0
CALSCALE:GREGORIAN
METHOD:PUBLISH
BEGIN:VEVENT
SUMMARY:Secrets d'Ecoland
DTSTART:20260510T130000Z
DTEND:20261011T140000Z
DTSTAMP:20260419T134746Z
CATEGORIES:
DESCRIPTION:Bienvenue aux Secrets d’Ecoland…\nEt si vous vous accordie
 z une parenthèse hors du temps ? Un lieu où la nature murmure\, où les 
 animaux vous observent avec curiosité\, et où chaque instant devient une
  aventure…\nDès votre arrivée\, laissez-vous guider…\n \n15h : L’
 aventure commence\nUn mystère plane sur Ecoland. Des indices dissimulés\
 , des énigmes à résoudre… Saurez-vous percer ses secrets ? En équipe
 \, partez pour un escape game en pleine nature où votre sens de l’obser
 vation et votre esprit d’équipe seront vos meilleurs alliés.\n• 8 
 € par joueur\n• De 1 à 8 aventuriers par équipe\n \n16h : Une renco
 ntre hors du commun\nAprès l’aventure\, place à la douceur… Entrez d
 ans l’univers paisible de nos animaux et partagez un moment authentique 
 à leurs côtés.\nHashak et Leiki\, nos ânes\, vous accueillent avec leu
 r calme rassurant.\nSirius et Orion\, nos boucs\, éveillent la curiosité
  des plus petits.\nSun et Moon\, nos brebis\, vous invitent à ralentir et
  à profiter de l’instant.\n \nHabitués à l’humain depuis leur plus
  jeune âge\, ils offrent une rencontre en toute sérénité.\n• Rencont
 re avec les animaux : 5 € (adulte) / 4 € (enfant)\n \nEt pour prolong
 er ce moment…\nInstallez-vous et savourez un goûter gourmand\, simple e
 t fait maison : une crêpe ou un cookie accompagné d’un thé glacé raf
 raîchissant.\n• Goûter à la ferme : 9 € (adulte) / 7 € (enfant) 
 \n(inclut la rencontre avec les animaux + un goûter : crêpe au sucre ou 
 cookie maison et thé glacé maison)\n \nComposez votre expérience comme
  vous le souhaitez : une seule activité ou toute la journée\, tout est p
 ossible.\nUne journée à vivre\, à ressentir… et à partager.\n \nIns
 cription gratuite – règlement sur place
GEO:50.2689439;3.094824
LOCATION:25 Chemin du Marais 62860 Palluel - FR
ORGANIZER:ECOLAND
END:VEVENT
END:VCALENDAR
