BEGIN:VCALENDAR
VERSION:2.0
CALSCALE:GREGORIAN
METHOD:PUBLISH
BEGIN:VEVENT
SUMMARY:Pique-Nique des Vignerons Indépendants
DTSTART:20260523T090000Z
DTEND:20260523T130000Z
DTSTAMP:20260421T153450Z
CATEGORIES:
DESCRIPTION:
LOCATION:Le Coin 44690 Saint-Fiacre-sur-Maine - FR
ORGANIZER:VGC Vignobles GUNTHER CHEREAU
END:VEVENT
END:VCALENDAR
