BEGIN:VCALENDAR
VERSION:2.0
CALSCALE:GREGORIAN
METHOD:PUBLISH
BEGIN:VEVENT
SUMMARY:Konzert: Deutsche und russische Romantik
DTSTART:20260513T170000Z
DTSTAMP:20260425T124049Z
CATEGORIES:
DESCRIPTION:Elena Moiseenko - Pianistin\, Dozentin an der Zentralen Musiks
 chule beim Moskauer Konservatorium\, Mitgründerin der gemeinnützigen Sti
 ftung SoundOut. Absolventin des Moskauer Konservatoriums und der Assistent
 ur-Diplomstudien (Klasse von Professor Ruwim Ostrowski)\, studierte sie au
 ßerdem an der Hochschule für Musik „Hanns Eisler“ in Berlin bei Prof
 essor Eldar Nebolsin. Preisträgerin internationaler Wettbewerbe\, trat si
 e in den bedeutendsten Konzertsälen Russlands\, Deutschlands\, Frankreich
 s\, der Schweiz\, Österreichs\, Belgiens und Spaniens auf. Sie entwickelt
  Bildungsprogramme und Konzertprojekte und fördert aktiv die Arbeit der S
 tiftung SoundOut.\nAnton Moiseenko - Klarinettist\, Solist des Tschaikowsk
 i-Symphonieorchesters des Moskauer Rundfunks. Er begann seine Ausbildung a
 m Republikanischen Gymnasium-College der Weißrussischen Staatlichen Musik
 akademie in Minsk\, setzte sie an der Zentralen Musikschule beim Moskauer 
 Konservatorium und am Moskauer Staatskonservatorium (Klasse von Professor 
 Jewgeni Petrow) fort. Als Solist trat er auf den bedeutendsten Bühnen der
  Welt auf\, darunter im Großen\, Kleinen und Rachmaninow-Saal des Moskaue
 r Konservatoriums\, im Großen Saal der Weißrussischen Staatlichen Philha
 rmonie\, in der Carnegie Hall in New York und in weiteren Konzertsälen.\n
 Im Konzertprogramm erklingen Werke der Klassiker der deutschen und russisc
 hen Romantik: Johannes Brahms\, Robert Schumann\, Clara Schumann\, Pjotr T
 schaikowski\, Sergei Rachmaninow.
GEO:52.5135209;13.3888922
LOCATION:176-179 Friedrichstraße 10117 Berlin - DE
ORGANIZER:Russisches Haus in Berlin
END:VEVENT
END:VCALENDAR
