BEGIN:VCALENDAR
VERSION:2.0
CALSCALE:GREGORIAN
METHOD:PUBLISH
BEGIN:VEVENT
SUMMARY:Escapade à la Thiodelle
DTSTART:20260619T160000Z
DTEND:20260619T200000Z
DTSTAMP:20260422T224644Z
CATEGORIES:
DESCRIPTION:Offrez-vous une soirée d’exception au cœur des vignes.\nLe
  vendredi 19 juin 2026\, vivez une expérience unique mêlant découverte\
 , plaisir et élégance\, dans un cadre naturel à couper le souffle.\nVot
 re soirée débute par une visite du domaine\, avant de rejoindre un lieu 
 confidentiel au milieu du vignoble : La Thiodelle.\nSur place\, laissez-vo
 us porter par un apéritif dînatoire haut de gamme en partenariat avec Le
  Goluret\, rythmé par :\n\ndes accords mets & champagnes soigneusement é
 laborés\n5 cuvées sélectionnées pour sublimer chaque instant\nun forma
 t convivial : apéritif\, 3 services\, fromages & dessert\n\nLe tout dans 
 une ambiance musicale lounge élégante\, avec une vue panoramique sur les
  vignes\, pour un moment hors du temps.\n\nUne expérience immersive\nUn c
 adre exceptionnel\nUne atmosphère raffinée\n\nTarif : 45 € par personn
 ePlaces limitées – réservation obligatoire\nSous réserve des conditio
 ns météorologiques
LOCATION:39 rue de Bar sur Aube 10200 Baroville - FR
ORGANIZER:CHAMPAGNE PHILIPPE FOURRIER 
END:VEVENT
END:VCALENDAR
