BEGIN:VCALENDAR
VERSION:2.0
CALSCALE:GREGORIAN
METHOD:PUBLISH
BEGIN:VEVENT
SUMMARY:Up Here 12 Weekend Pass
DTSTART:20260814T180000Z
DTEND:20260817T035500Z
DTSTAMP:20260423T060748Z
CATEGORIES:
DESCRIPTION:\n	Our top recommendation for anyone wanting the full Up Here 
 experience! Hop freely between multiple venues\, discover music at every t
 urn\, and get a sweet 10% off discount on sick sick merch.\n\n\n		Access t
 o all Up Here 12 concerts and events (subject to capacity)\n\n\nPass holde
 rs must be 19 or older at the time of the festival. Valid ID required for 
 entry. Please note that pass holders are encouraged to arrive early for po
 pular events/anything they really\, truly\, badly want to see. As a genera
 l rule\, 2/3 of venue capacities are reserved for pass holders. If a show 
 has already started and is at capacity\, you may be asked to wait for a sp
 ace to become available.\n
LOCATION: P3E 3M9 Sudbury - CA
ORGANIZER:We Live Up Here
END:VEVENT
END:VCALENDAR
