BEGIN:VCALENDAR
VERSION:2.0
CALSCALE:GREGORIAN
METHOD:PUBLISH
BEGIN:VEVENT
SUMMARY:Nuit des Communautés #5
DTSTART:20260528T160000Z
DTEND:20260528T215500Z
DTSTAMP:20260421T134656Z
CATEGORIES:
DESCRIPTION:\n	Vous connaissez la nuit au musée ?\n\n	Envie de vous imm
 erger dans des contenus techniques passionnants pendant plusieurs heures\,
  accompagnée de pauses gourmandes et de quoi trinquer ?\n\n	Pour la Nuit 
 des Commuanutés\, nous avons invité les communautés tech à proposer de
 s conférences : débutantes\, intermédiaires ou expertes\, à destinatio
 n de toutes et tous.\n\n>>> le programme arrive mi-avril !\n\n\n\n\n	Cet 
 évènement est organisé avec coeur\, depuis 5 ans maintenant\, par Exter
 natic.\n\nLes plus :\n\n\n\n\n		Vestiaire surveillé & gratuit\n\n		Buffet
  et boissons offertes\n\n\n	 \n\nATTENTION : seuls les billets pris sur W
 eezevent seront valides !\n
LOCATION:42 rue la Tour d'Auvergne 44200 Nantes - FR
ORGANIZER:Externatic
END:VEVENT
END:VCALENDAR
