BEGIN:VCALENDAR
VERSION:2.0
CALSCALE:GREGORIAN
METHOD:PUBLISH
BEGIN:VEVENT
SUMMARY:LOVE A DUB#3 : AGOBUN MEETS LIVICATION CORNER
DTSTART:20260509T200000Z
DTSTAMP:20260424T180031Z
CATEGORIES:
DESCRIPTION:\nNORTH DUB MEETING présente \nLOVE A DUB #3 session \nle s
 amedi 09 Mai 2026 22h-05h\nLes 2 crew nordiste se rencontrent avec leur so
 no respective pour une session dans la pure tradition roots n culture.\nAG
 OBUN  SOUND SYSTEM\n\nSound-system reggae roots basé à Lille\, Agobun a
  été fondé en 2007 et s'inspire des figures incontournables de la scèn
 e locale\, comme Chalice Sound et Coptic\, ainsi que des légendes du dub 
 britannique telles que Jah Shaka et Aba Shanti.\nAu fil des années\, Agob
 un a su se forger une solide réputation underground\, d'abord comme rési
 dent dans des soirées locales dans la région (Bass Temple\, Early Dub\, 
 Lille Dub AllStars\, Warrior Charge...) avant de se produire sur les plus 
 grands festivals de reggae et de sound systems à travers l'Europe\, tels 
 que le Dub Camp\, ReggaeBus\, International Dub Gathering et Zion Station.
 \nLe crew s’est rapidement fait remarquer grâce à un son puissant et c
 lair de haute qualité\, allié à une sélection musicale originale et un
 e vibe unique à chaque session. Leur réputation s'étend également au-d
 elà des frontières\, avec une présence régulière en Belgique et une r
 econnaissance dans le milieu reggae européen.\nDepuis 2016\, Agobun a ég
 alement commencé à enregistrer\, mixer et presser ses propres dubplates\
 , s'inspirant du son roots des années 90. Ils ont lancé leur propre labe
 l\, Agobun Riddim Section\, et comptent aujourd'hui plus d'une dizaine de 
 singles et trois LPs.\nLa musique d'Agobun a été largement appréciée p
 ar les passionnés de reggae\, de dub et de sound systems\, et leurs produ
 ctions ont été jouées par des sélecteurs de haut vol tels que Jah Shak
 a\, Aba Shanti\, Mark Iration\, Mikey Dread et bien d’autres\nhttps://ag
 obun.blogspot.com/\n \nmeets\nLIVICATION CORNER SOUND SYSTEM https://www.
 instagram.com/livicationcornermusic/LIVICATION CORNER\n \n \nSoirée pri
 vée associative avec adhésion obligatoire sur place\n22h - 05h\nCAPACITE
  LIMITEE12€ - PRÉVENTES15€ - SUR PLACEBAR STAND VINYLES\nPARKING SECU
 RISE - AIRE DE COVOITURAGE A 5MM\nBUS : L5 Arrêt " FERME AUX OIES" (dire
 ct depuis Porte des Postes ou Gare Lille Flandres)A 10 MINUTES DE LILLE\nA
 DRESSE EXACTE ENVOYEE PAR MAIL OU SMS QUELQUES JOURS AVANT.MERCI DE BIEN R
 EMPLIR LE FORMULAIRE AVEC UNE ADRESSE MAIL OU TELEPHONE BIEN VALIDE.\n \n
 INFOS : loveadub59@gmail.com\n \n \n////////////////////////////////////
 //////////////////////////////////////////////////////////////////////////
 //////////////////////////////////////////////////////////////////\n \n\n
 NORTH DUB MEETING present\nLOVE A DUB #3 session \nSaturday 2025.05.09  
  10pm-5am\nAGOBUN SOUND SYSTEM\n\nFounded in 2007\, Agobun is a Lille-bas
 ed roots reggae sound system inspired by local scene stalwarts like Chalic
 e Sound and Coptic\, as well as UK dub legendary sounds. Over the years\, 
 the crew has built a strong underground reputation\, initially as resident
 s at local sessions and later performing at some of Europe’s largest reg
 gae sound system festivals. Agobun is dedicated to delivering a high-quali
 ty sound that combines power with clarity\, while creating a distinctive a
 tmosphere for each session.\n \nIn 2016\, they started recording\, mixing
 \, and pressing up their own dubplates\, drawing heavy influence from the 
 90s roots sound\, and eventually launched their own label.\n\n\n\n\nToday\
 , the label boasts over a dozen singles and three LPs from the Agobun Ridd
 im Section’s productions. Their music has earned widespread appreciation
  among reggae\, dub\, and sound system enthusiasts. Their tracks have been
  featured by top selectors such as Jah Shaka\, Aba Shanti\, Mark Iration\,
  Mikey Dread\, and many more.https://agobun.blogspot.com/\n\n\n\nmeets\nLI
 VICATION CORNER SOUND SYSTEM https://www.instagram.com/livicationcornermus
 ic/LIVICATION CORNER\nPrivate session with compulsory membership on site\n
  LIMITED CAPACITY12€ - PRESALE15€ - ON SITEBARSAFE PARKING BUS : L5 S
 top "FERME AUX OIES"\n@10 MINUTES FROM LILLE\nWARNING ////////// WARNING /
 ////////// WARNING/////////////\nTHE LOCATION ADRESS WILL BE SENT BY EMAIL
 OR TEXT FEW DAYSBEFORE - PLEASE DO NOT FORGET TO COMPLETE THE FORM WITH A
  VALID EMAIL OR TELEPHONE NUMBER\nMORE INFOS: loveadub59@gmail.com
LOCATION: 59700 Marcq en Baroeul - FR
ORGANIZER:Love A Dub
END:VEVENT
END:VCALENDAR
