BEGIN:VCALENDAR
VERSION:2.0
CALSCALE:GREGORIAN
METHOD:PUBLISH
BEGIN:VEVENT
SUMMARY:Trouver et garder l'équilibre\, avec la roue de la vie
DTSTART:20260606T080000Z
DTEND:20260606T100000Z
DTSTAMP:20260424T160708Z
CATEGORIES:
DESCRIPTION:Vous avez parfois l’impression de courir partout\, sans vrai
 ment trouver votre équilibre entre vie pro et perso ?\nEt si vous preniez
  un temps pour faire le point… et surtout pour réajuster ce qui compte 
 vraiment pour vous ?\nJe vous propose un atelier de 2h pour explorer votre
  équilibre de vie et poser des actions concrètes grâce à un outil puis
 sant de coaching : la roue de la vie.\nCet outil vous permet de visualise
 r en un coup d’œil les différentes sphères de votre vie (travail\, re
 lations\, santé\, loisirs…) et d’identifier ce qui mérite d’être 
 rééquilibré pour retrouver plus d’harmonie au quotidien.\nPendant cet
  atelier\, vous allez :\n\nprendre du recul sur votre situation actuelle\n
 clarifier vos priorités et vos besoins\nidentifier vos déséquilibres et
  leurs causes\ndéfinir des actions concrètes et réalistes\n\nL’atelie
 r alterne entre apports inspirants\, temps d’introspection\, échanges e
 n petits groupes et mise en action\, dans un cadre bienveillant et stimula
 nt.\nVous repartirez avec :\n\nvotre feuille de route personnalisée\, cla
 ire et actionnable\nune vision plus alignée de votre équilibre de vie\nu
 ne pratique guidée (audio) pour vous aider à ancrer durablement ces chan
 gements\n\nPublic concerné: \n\nsalariés\, entrepreneurs\, personnes en
  transition\n
LOCATION:  
ORGANIZER:Audrey Berté
END:VEVENT
END:VCALENDAR
